BEGIN:VCALENDAR
VERSION:2.0
BEGIN:VEVENT
URL:https://www.networkinaction.com/index.php/events/viewevent/5407-nia-mixer-at-caddy-s-gulfport-4pm?groupid=49 
DTSTART:20210722T160000
DTEND:20210722T173000
SUMMARY:NIA - Mixer at Caddy's Gulfport - 4pm
DESCRIPTION:<p>Join us to connect, build relationships and talk business.</p>
LOCATION:Caddy's Gulfport
END:VEVENT
END:VCALENDAR