BEGIN:VCALENDAR
VERSION:2.0
BEGIN:VEVENT
URL:https://www.networkinaction.com/index.php/events/viewevent/5403-wines-around-the-world-experience-co-offered-by-juanice?groupid=68 
DTSTART:20210728T183000
DTEND:20210728T200000
SUMMARY:Wines Around the World (experience co-offered by Juanice)
DESCRIPTION:<p>I<strong>magine experiencing </strong><strong>fine wines </strong><strong>in their native vineyards!</strong></p><p>While we can't literally fly you around the world in an evening, we can create the experience within your mind that you are immersed in the surrounding countryside of each of our delicious, hand-picked fine wines.  Join us for a delightful evening hypnotically experiencing 5 hand-picked wines from around the world. These fine wines are being paired with hypnosis to bring you to new heights of experiencing wine. </p><p>Register via this link: https://rrthemindpowers.com/wine-and-hypnosis</p>
LOCATION:The Burger Ranch, 16702 House and Hahl Rd., Cypress
END:VEVENT
END:VCALENDAR