BEGIN:VCALENDAR
VERSION:2.0
BEGIN:VEVENT
URL:https://www.networkinaction.com/index.php/events/viewevent/5366-nia-st-pete-monthly-meeting?groupid=49 
DTSTART:20210708T160000
DTEND:20210708T173000
SUMMARY:NIA St Pete Monthly Meeting
DESCRIPTION:<p>Join us at Carrabba's on Tyrone Blvd.</p>
LOCATION:Carrabba's on Tyrone Blvd.
END:VEVENT
END:VCALENDAR