BEGIN:VCALENDAR
VERSION:2.0
BEGIN:VEVENT
URL:https://www.networkinaction.com/index.php/events/viewevent/5364-july-bowling-social?groupid=53 
DTSTART:20210727T160000
DTEND:20210727T180000
SUMMARY:July Bowling Social!!
DESCRIPTION:<p>Join in with other NIA chapter members as we enjoy the A/C, bowling and networking!  Come join in the fun!</p>
LOCATION:Spare Time Texas, 1724 FM 685, Pflugerville, TX 78660
END:VEVENT
END:VCALENDAR