BEGIN:VCALENDAR
VERSION:2.0
BEGIN:VEVENT
URL:https://www.networkinaction.com/index.php/events/viewevent/5363-nia-july-social-bowling?groupid=50 
DTSTART:20210727T160000
DTEND:20210727T180000
SUMMARY:NIA July Social - Bowling!!!
DESCRIPTION:Join in with other NIA chapter members as we enjoy the A/C, bowling and networking!  Come join in the fun!
LOCATION:Spare Time Texas, 1724 FM 685, Pflugerville, TX 78660
END:VEVENT
END:VCALENDAR