BEGIN:VCALENDAR
VERSION:2.0
BEGIN:VEVENT
URL:https://www.networkinaction.com/index.php/events/viewevent/5362-july-monthly-meeting?groupid=154 
DTSTART:20210714T150000
DTEND:20210714T163000
SUMMARY:July monthly meeting
DESCRIPTION:
LOCATION:Sienna Restaurant- 1480 Eureka Rd
END:VEVENT
END:VCALENDAR