BEGIN:VCALENDAR
VERSION:2.0
BEGIN:VEVENT
URL:https://www.networkinaction.com/index.php/events/viewevent/5358-july-14th-monthly-meeting?groupid=86 
DTSTART:20210714T150000
DTEND:20210714T163000
SUMMARY:July 14th Monthly Meeting
DESCRIPTION:Stellar Connections Monthly Meeting
LOCATION:5646 W Bell Rd, Glendale, AZ 85308
END:VEVENT
END:VCALENDAR