BEGIN:VCALENDAR
VERSION:2.0
BEGIN:VEVENT
URL:https://www.networkinaction.com/index.php/events/viewevent/5351-july-monthly-meeting?groupid=140 
DTSTART:20210714T150000
DTEND:20210714T163000
SUMMARY:July Monthly Meeting
DESCRIPTION:<p>Join all of our terrific Sugar Land Business Force members for our July monthly meeting.  We have a great meeting planned and you will want to be there.  Looking forward to seeing you!</p>
LOCATION:Churrascos Sugar Land, 1520 Lake Pointe Pkwy, Ste 500, Sugar Land, TX 77478
END:VEVENT
END:VCALENDAR