BEGIN:VCALENDAR
VERSION:2.0
BEGIN:VEVENT
URL:https://www.networkinaction.com/index.php/events/viewevent/5350-july-monthly-meeting?groupid=77 
DTSTART:20210713T150000
DTEND:20210713T163000
SUMMARY:July Monthly Meeting
DESCRIPTION:<p>Join all of our terrific Westchase Business Force members for our July monthly meeting.  We have a great meeting planned and you will want to be there.  Looking forward to seeing you!</p>
LOCATION:Lupe Tortilla, 9313 Katy Freeway, 77024
END:VEVENT
END:VCALENDAR