BEGIN:VCALENDAR
VERSION:2.0
BEGIN:VEVENT
URL:https://www.networkinaction.com/index.php/events/viewevent/5349-july-monthly-meeting?groupid=147 
DTSTART:20210708T150000
DTEND:20210708T163000
SUMMARY:July Monthly Meeting
DESCRIPTION:Join all of our terrific Veterans Business Force members for our July monthly meeting.  We have a great meeting planned and you will want to be there.  Looking forward to seeing you!
LOCATION:Lupe Tortilla, 9313 Katy Freeway, 77024
END:VEVENT
END:VCALENDAR