BEGIN:VCALENDAR
VERSION:2.0
BEGIN:VEVENT
URL:https://www.networkinaction.com/index.php/events/viewevent/5345-july-monthly-meeting?groupid=14 
DTSTART:20210714T153000
DTEND:20210714T170000
SUMMARY:July Monthly Meeting
DESCRIPTION:<p><strong>Please join us for our July monthly Meeting. </strong></p><p><strong>Come to network and meet your new members and guests</strong></p><p><strong> We will start at 3:30 and end at 5:00. </strong></p><p><strong> We have a very fun and interactive agenda!  </strong><strong>Childhood Dreams! Please be prepared to share about what experiences in your life made you the business person you are today.  You will have 3 to 5 minutes to share.  I'll also have a handout with suggested topics! </strong></p>
LOCATION:Warehouse 72 
END:VEVENT
END:VCALENDAR