BEGIN:VCALENDAR
VERSION:2.0
BEGIN:VEVENT
URL:https://www.networkinaction.com/index.php/events/viewevent/5342-launch-learn-lake-travis?groupid=185 
DTSTART:20210901T150000
DTEND:20210901T163000
SUMMARY:Launch & Learn - Lake Travis
DESCRIPTION:
LOCATION:The League Kitchen & Tavern (Hill Country Galleria) - 13420 Galleria Circle Suite A-128  Bee Cave, TX 78738
END:VEVENT
END:VCALENDAR