BEGIN:VCALENDAR
VERSION:2.0
BEGIN:VEVENT
URL:https://www.networkinaction.com/index.php/events/viewevent/5338-happiness-workshop?groupid=66 
DTSTART:20210630T180000
DTEND:20210630T190000
SUMMARY:Happiness Workshop!
DESCRIPTION:<p>Sometimes happiness is hiding in plain sight. Join us for a fun and engaging workshop on learning how to recognize and to create more happiness in your life.</p><br /><p>Please register via the link below.</p><br /><p>https://www.eventbrite.com/e/recognizing-creating-more-happiness-in-your-life-tickets-160082054735</p>
LOCATION:via zoom
END:VEVENT
END:VCALENDAR