BEGIN:VCALENDAR
VERSION:2.0
BEGIN:VEVENT
URL:https://www.networkinaction.com/index.php/events/viewevent/5328-nia-boat-party?groupid=163 
DTSTART:20210716T140000
DTEND:20210716T180000
SUMMARY:NIA Boat Party!!!
DESCRIPTION:Keith Powell & Monica McKitterick from our Lakeline group have been generous enough to volunteer their boats to take us out on the lake for a day of fun. 

The day starts with an optional lunch at Shack 512 at noon.

We're then walking to the Sandy Creek Marina and setting off around 2.

Bring your own towels, refreshments, and anything else you'd like to bring out on the lake.

Seating is limited, so we need everyone who plans to go to register, and based on interest, we may open it up to a +1. 

Be sure to register here - https://www.eventbrite.com/e/161022144569
LOCATION:Sandy Creek Marina 8714 Lime Creek Rd, Volente, TX 78641
END:VEVENT
END:VCALENDAR