BEGIN:VCALENDAR
VERSION:2.0
BEGIN:VEVENT
URL:https://www.networkinaction.com/index.php/events/viewevent/5319-monthly-meeting?groupid=66 
DTSTART:20210713T160000
DTEND:20210713T173000
SUMMARY:Monthly meeting
DESCRIPTION:
LOCATION:Zoom.us, Meeting ID 713-678-0468; Face to face option, 12848 Queensbury Lane, Houston, TX 77024
END:VEVENT
END:VCALENDAR