BEGIN:VCALENDAR
VERSION:2.0
BEGIN:VEVENT
URL:https://www.networkinaction.com/index.php/events/viewevent/5318-women-of-nia-happy-hour-social?groupid=181 
DTSTART:20210727T160000
DTEND:20210727T180000
SUMMARY:Women of NIA Happy Hour Social
DESCRIPTION:We're having our 2nd women-only event. This time around it's at Juliet Italian Kitchen in the Arboretum. I got a lot of great feedback about the last event, and this one is looking to be even better!

Please contact Anna or Emily for more details.

Please register through Eventbrite here so we can reserve proper seating - https://www.eventbrite.com/e/women-of-nia-happy-hour-social-tickets-160976967443
LOCATION:Juliet Italian Kitchen 10000 Research Blvd Bldg C, Austin, TX 78759
END:VEVENT
END:VCALENDAR