BEGIN:VCALENDAR
VERSION:2.0
BEGIN:VEVENT
URL:https://www.networkinaction.com/index.php/events/viewevent/5307-next-level-networking?groupid=163 
DTSTART:20210623T114500
DTEND:20210623T130000
SUMMARY:Next Level Networking
DESCRIPTION:Potential members have a chance to sit down and learn more about NIA's technology and how everything works in a relaxed environment. Members can learn more about NIA technology, networking at a higher level, or have a general Q&A.
LOCATION:La Madeleine French Bakers 9828 Great Hills Trail St 650, Austin, TX 78759
END:VEVENT
END:VCALENDAR