BEGIN:VCALENDAR
VERSION:2.0
BEGIN:VEVENT
URL:https://www.networkinaction.com/index.php/events/viewevent/5200-nia-weekly-sales-coaching?groupid=46 
DTSTART:20210701T090000
DTEND:20210702T100000
SUMMARY:NIA Weekly Sales Coaching
RRULE:FREQ=WEEKLY;UNTIL=20220624T000000
DESCRIPTION:<p>In order to help our members deal with challenges that arrive AFTER an introduction is made, I'm offering a weekly sales coaching session. Bring your challenges and questions and let NIA help you close the deal!</p><p>Join by Zoom at:</p><p>https://zoom.us/j/9460662409?pwd=dkVxRFR1VUw5Z3M4akNMY2ZWcWJzZz09
</p>
LOCATION:Zoom meeting
END:VEVENT
END:VCALENDAR