BEGIN:VCALENDAR
VERSION:2.0
BEGIN:VEVENT
URL:https://www.networkinaction.com/index.php/events/viewevent/5180-nia-monthly-members-meeting-july-08-3-to-4-30-pm-in-person-event?groupid=29 
DTSTART:20210708T150000
DTEND:20210708T163000
SUMMARY:NIA Monthly Members Meeting - July 08 3 to 4.30 PM - In Person Event
DESCRIPTION:<p>Our 1st 'In Person' Meeting since March 2020. Finally...RSVP NOW and mark your calendars
</p><p>Thank you Dr. Lisa for offering your practice to host our first meeting after more than a year...
</p><p>Really looking forward to seeing everyone in person...this is going to be a fun & productive meeting..</p>
LOCATION:Natural Health Improvement Center of Columbia, MD10400 Shaker Dr #3B, Columbia, MD 21046
END:VEVENT
END:VCALENDAR