BEGIN:VCALENDAR
VERSION:2.0
BEGIN:VEVENT
URL:https://www.networkinaction.com/index.php/events/viewevent/5177-june-all-group-happy-hour?groupid=140 
DTSTART:20210629T170000
DTEND:20210629T190000
SUMMARY:June All Group Happy Hour
DESCRIPTION:<p>Come out and join all the members of NIA Business Force for our June happy hour.  We always have a great time and continue building our relationships at these events.  You will want to be there!</p>
LOCATION:Kirby Ice House Memorial -  1015 Gessner Rd, Houston, TX 77055
END:VEVENT
END:VCALENDAR