BEGIN:VCALENDAR
VERSION:2.0
BEGIN:VEVENT
URL:https://www.networkinaction.com/index.php/events/viewevent/5170-monthly-meeting?groupid=66 
DTSTART:20210621T160000
DTEND:20210621T173000
SUMMARY:Monthly Meeting
DESCRIPTION:
LOCATION:Zoom.us, Meeting ID 713-678-0468 and face to face
END:VEVENT
END:VCALENDAR