BEGIN:VCALENDAR
VERSION:2.0
BEGIN:VEVENT
URL:https://www.networkinaction.com/index.php/events/viewevent/5169-monthly-meeting?groupid=68 
DTSTART:20210708T153000
DTEND:20210708T170000
SUMMARY:Monthly Meeting
DESCRIPTION:
LOCATION:Zoom.us, Meeting ID 713-678-0468 and In-Person, 10333 Richmond Ave, Suite 510, Houston, TX 77042
END:VEVENT
END:VCALENDAR