BEGIN:VCALENDAR
VERSION:2.0
BEGIN:VEVENT
URL:https://www.networkinaction.com/index.php/events/viewevent/5153-july-monthly-meeting-via-zoom?groupid=139 
DTSTART:20210708T153000
DTEND:20210708T170000
SUMMARY:July Monthly Meeting via Zoom 
DESCRIPTION:
LOCATION:www.ZoomWithJoryFisher.com
END:VEVENT
END:VCALENDAR