BEGIN:VCALENDAR
VERSION:2.0
BEGIN:VEVENT
URL:https://www.networkinaction.com/index.php/events/viewevent/5144-network-in-action-launch-and-learn?groupid=174 
DTSTART:20210713T150000
DTEND:20210713T163000
SUMMARY:Network in Action Launch and Learn
DESCRIPTION:
LOCATION:14576 SW 5th Street Pembroke Pines Florida 33027
END:VEVENT
END:VCALENDAR