BEGIN:VCALENDAR
VERSION:2.0
BEGIN:VEVENT
URL:https://www.networkinaction.com/index.php/events/viewevent/5143-first-meeting-network-in-action?groupid=174 
DTSTART:20210715T150000
DTEND:20210715T163000
SUMMARY:First Meeting: Network in Action
DESCRIPTION:
LOCATION:14576 SW 5th Street Pembroke Pines Florida 33027
END:VEVENT
END:VCALENDAR