BEGIN:VCALENDAR
VERSION:2.0
BEGIN:VEVENT
URL:https://www.networkinaction.com/index.php/events/viewevent/5142-nia-cy-fair-connectors-august-meeting?groupid=12 
DTSTART:20210817T150000
DTEND:20210817T163000
SUMMARY:NIA Cy-Fair Connectors August Meeting
DESCRIPTION:NIA Cy-Fair Connectors August Meeting
LOCATION:Saltgrass Steak House, 23952 Northwest Freeway, Cypress, TX 77429
END:VEVENT
END:VCALENDAR