BEGIN:VCALENDAR
VERSION:2.0
BEGIN:VEVENT
URL:https://www.networkinaction.com/index.php/events/viewevent/5139-next-level-networking-happy-hour?groupid=86 
DTSTART:20210624T160000
DTEND:20210624T171500
SUMMARY:Next Level Networking - Happy Hour
DESCRIPTION:<p>Come join your fellow members and invited guest to Happy Hour. Speed networking, sharing about NIA and Food are all on the agenda.  Meeting in the lounge area.  Invite other business owners if you like, but please RSVP for them and we have limited seating. </p><br /><p>Look forward to seeing you then. </p>
LOCATION:Chauncey Social 17767 N Scottsdale Rd suite 100, Scottsdale, AZ 85255, United States
END:VEVENT
END:VCALENDAR