BEGIN:VCALENDAR
VERSION:2.0
BEGIN:VEVENT
URL:https://www.networkinaction.com/index.php/events/viewevent/5131-extrra-opportunity-to-grow-your-business-11-30-to-1-00?groupid=1 
DTSTART:20210713T113000
DTEND:20210713T130000
SUMMARY:Extrra Opportunity to grow your business 11:30 to 1:00
DESCRIPTION:I am inviting everyone where we do not have a member in your industry to this meeting.  I hope you will take advantage of this rare opportunity to network over lunch with other NIA members form our B2B group. 32 members waiting to hear from you! Pls RSVP if you can so we can let restaurant know to staff up 
LOCATION:Warehouse 72 7620 Katy Freeway Suite 305 
END:VEVENT
END:VCALENDAR