BEGIN:VCALENDAR
VERSION:2.0
BEGIN:VEVENT
URL:https://www.networkinaction.com/index.php/events/viewevent/5130-heights-monthly-meeting-3-00-pm?groupid=1 
DTSTART:20210708T150000
DTEND:20210708T163000
SUMMARY:Heights Monthly Meeting 3:00 pm 
DESCRIPTION:Guest speaker you will love this exercise!  If you know you will be traveling please line up your substitute now! Thanks 
LOCATION:Warehouse 72 7620 Katy Freeway Suite 305 
END:VEVENT
END:VCALENDAR