BEGIN:VCALENDAR
VERSION:2.0
BEGIN:VEVENT
URL:https://www.networkinaction.com/index.php/events/viewevent/4988-coffee-conversation-zoom?groupid=119 
DTSTART:20220426T083000
DTEND:20220426T091500
SUMMARY:Coffee & Conversation Zoom
RRULE:FREQ=WEEKLY;UNTIL=20220607T000000
DESCRIPTION:This is our weekly conversation on various topics that we invite all the groups to. There are normally several guests, and it's generally a fun time all around.
LOCATION:Zoom
END:VEVENT
END:VCALENDAR