BEGIN:VCALENDAR
VERSION:2.0
BEGIN:VEVENT
URL:https://www.networkinaction.com/index.php/events/viewevent/4920-monthly-chance-to-connect-10-30-am-cst-8-30-pst-and-11-30-est?groupid=112 
DTSTART:20210811T103000
DTEND:20210811T113000
SUMMARY:Monthly Chance to Connect 10:30 am  cst 8:30 pst and 11:30 est
DESCRIPTION:
LOCATION:www.zoomwithnia.com
END:VEVENT
END:VCALENDAR