BEGIN:VCALENDAR
VERSION:2.0
BEGIN:VEVENT
URL:https://www.networkinaction.com/index.php/events/viewevent/4916-june-10th-meeting 
DTSTART:20210610T153000
DTEND:20210610T173000
SUMMARY:June 10th Meeting
DESCRIPTION:<p>Firehouse Grill</p><p>4785 Lake Forest Drive</p><p>Cincinnati, Ohio 45242</p><br />
LOCATION:Cincinnati
END:VEVENT
END:VCALENDAR