BEGIN:VCALENDAR
VERSION:2.0
BEGIN:VEVENT
URL:https://www.networkinaction.com/index.php/events/viewevent/4890-nia-st-pete-monthly-meeting?groupid=49 
DTSTART:20210610T160000
DTEND:20210610T173000
SUMMARY:NIA St Pete Monthly Meeting
DESCRIPTION:<p>Join us at Carrabba's on Tyrone this Thursday for good company and networking!</p>
LOCATION:3530 Tyrone Blvd N, St. Petersburg, FL 33710
END:VEVENT
END:VCALENDAR