BEGIN:VCALENDAR
VERSION:2.0
BEGIN:VEVENT
URL:https://www.networkinaction.com/index.php/events/viewevent/4874-monthly-meeting-3-00-to-4-30-warehouse-72?groupid=1 
DTSTART:20210610T150000
DTEND:20210610T163000
SUMMARY:Monthly Meeting 3:00 to 4:30  Warehouse 72
DESCRIPTION:
LOCATION:Warehouse 72 7620 Katy Freeway Suite 305 
END:VEVENT
END:VCALENDAR