BEGIN:VCALENDAR
VERSION:2.0
BEGIN:VEVENT
URL:https://www.networkinaction.com/index.php/events/viewevent/4868-happy-hour-at-second-bar-kitchen?groupid=144 
DTSTART:20210618T160000
DTEND:20210618T180000
SUMMARY:Happy Hour at Second Bar + Kitchen
DESCRIPTION:Join us for our monthly happy hour at Second Bar + Kitchen in the Domain! We've had some great happy hours so far and this is an amazing venue. 

Feel free to bring your +1. We look forward to seeing you there! 

Please register here so we know how many to expect - https://www.eventbrite.com/e/happy-hour-at-second-bar-kitchen-tickets-157669392397
LOCATION:Second Bar + Kitchen 3121 Palm Way, Austin, TX 78758
END:VEVENT
END:VCALENDAR