BEGIN:VCALENDAR
VERSION:2.0
BEGIN:VEVENT
URL:https://www.networkinaction.com/index.php/events/viewevent/4859-social-media-videos?groupid=119 
DTSTART:20210618T090000
DTEND:20210618T140000
SUMMARY:Social Media Videos
DESCRIPTION:It's time for the next batch of social media videos! Please email me with 3 times that work for you between the hours of 9-2 to let me know which half hour slot works for you.

For those of you who don't know what this is all about - We sit down with you and record ad many videos as you'd like within a 30 minute timeframe, edit them, and give them back to you along with posting them on our social media pages. You bring the ideas, we bring the equipment.

Time slots are first come first serve.
LOCATION:Cepeda Farmer's Agency 11615 Angus Rd Ste 120, Austin, TX 78759
END:VEVENT
END:VCALENDAR