BEGIN:VCALENDAR
VERSION:2.0
BEGIN:VEVENT
URL:https://www.networkinaction.com/index.php/events/viewevent/4807-weekly-3-30pm-pst-team-meeting?groupid=152 
DTSTART:20210607T153000
DTEND:20210607T163000
SUMMARY:Weekly 3:30PM PST Team Meeting
RRULE:FREQ=WEEKLY;UNTIL=20220606T000000
DESCRIPTION:<p>Initially 60 minutes then 30 once we all get up to speed!</p><br /><p>Go to<b> </b><a href="https://zoom.us/s/6580815288?pwd=ZHVHL2RvckFyOXg1cXkrYzd4cCtOQT09#success" target="https://zoom.us/s/6580815288?pwd=ZHVHL2RvckFyOXg1cXkrYzd4cCtOQT09#success"><a href="https://zoom.us/s/6580815288?pwd=ZHVHL2RvckFyOXg1cXkrYzd4cCtOQT09#success"><b>zoomwithcoachcupp.com</b></a></a></p>
LOCATION:zoomwithcoachcupp.com
END:VEVENT
END:VCALENDAR