BEGIN:VCALENDAR
VERSION:2.0
BEGIN:VEVENT
URL:https://www.networkinaction.com/index.php/events/viewevent/4805-tuesday-nia-better-way-leaders-zoom-3-30pm-pst?groupid=152 
DTSTART:20210601T153000
DTEND:20210601T163000
SUMMARY:[Tuesday] NIA "Better Way Leaders" Zoom [3:30pm PST]
DESCRIPTION:<p>Special Guest, John Baier (25pointsystem.com) on Tuesday! Please download the 25point system app from his website(top left), get on early, and turn your camera is on.</p><br /><p>Thanks & have a great Memorial Day!</p><p><br />P.S. Let me know if www.zoomwithcoachcupp.com does not work for you. The full URL is Below</p><p>https://zoom.us/j/6580815288?pwd=ZHVHL2RvckFyOXg1cXkrYzd4cCtOQT09</p>
LOCATION:www.zoomwithcoachcupp.com
END:VEVENT
END:VCALENDAR