BEGIN:VCALENDAR
VERSION:2.0
BEGIN:VEVENT
URL:https://www.networkinaction.com/index.php/events/viewevent/4800-june-monthly-meeting?groupid=86 
DTSTART:20210609T150000
DTEND:20210609T163000
SUMMARY:June Monthly Meeting
DESCRIPTION:Looking forward to see you all at the June 9th Monthly meeting. If you want to invite a friend or colleague who maybe interested in your group, please do!! 

Just give me a heads up to confirm that industry is open. 

Any questions, call 602-549-0447.
LOCATION:17007 N Scottsdale Rd, Scottsdale, AZ 85225
END:VEVENT
END:VCALENDAR