BEGIN:VCALENDAR
VERSION:2.0
BEGIN:VEVENT
URL:https://www.networkinaction.com/index.php/events/viewevent/4782-may-triple-business-force-happy-hour?groupid=77 
DTSTART:20210526T170000
DTEND:20210526T190000
SUMMARY:May Triple Business Force Happy Hour
DESCRIPTION:<p>I invite you to join our Westchase Business Force and all of the NIA Business Force group members for our May happy hour.
</p>
<p>This is a great opportunity to grow your relationships in our group and expand your relationships in our other Business Force groups.
</p><p>Come join us to build relationships that last a lifetime!</p>

LOCATION:Floyd's Cajun Seafood, 16549 Southwest Freeway, Sugar Land, 77479
END:VEVENT
END:VCALENDAR