BEGIN:VCALENDAR
VERSION:2.0
BEGIN:VEVENT
URL:https://www.networkinaction.com/index.php/events/viewevent/4779-nia-mixer-at-caddy-s-gulfport?groupid=49 
DTSTART:20210527T160000
DTEND:20210527T173000
SUMMARY:NIA - Mixer at Caddy's Gulfport
DESCRIPTION:<p>Meet us at the tiki bar at 4pm, Wednesday.</p>
LOCATION:3128 Beach Blvd S
END:VEVENT
END:VCALENDAR