BEGIN:VCALENDAR
VERSION:2.0
BEGIN:VEVENT
URL:https://www.networkinaction.com/index.php/events/viewevent/4775-nia-cy-fair-connectors-july-monthly-meeting?groupid=12 
DTSTART:20210720T150000
DTEND:20210720T163000
SUMMARY:NIA Cy-fair Connectors July Monthly Meeting
DESCRIPTION:NIA  Cy-Fair Connectors July Meeting
LOCATION:World of Beer, 9945 Barker Cypress Rd, Cypress, 77433
END:VEVENT
END:VCALENDAR