BEGIN:VCALENDAR
VERSION:2.0
BEGIN:VEVENT
URL:https://www.networkinaction.com/index.php/events/viewevent/4767-launch-and-learn?groupid=170 
DTSTART:20210527T150000
DTEND:20210527T163000
SUMMARY:Launch and Learn
DESCRIPTION:We are inviting prospects to learn about the NIA opportunity. I would love to have current members attend and share why they joined.
LOCATION:Bona Vita, 1820 W Traverse Pkwy Unit C, Lehi UT 84043
END:VEVENT
END:VCALENDAR