BEGIN:VCALENDAR
VERSION:2.0
BEGIN:VEVENT
URL:https://www.networkinaction.com/index.php/events/viewevent/4764-monthly-meeting?groupid=158 
DTSTART:20210609T153000
DTEND:20210609T170000
SUMMARY:Monthly Meeting
DESCRIPTION:Join us on June 9th for our monthly networking meeting where we will meet everyone and start to build our networks and connections. 
LOCATION:www.zoomwithhps.com
END:VEVENT
END:VCALENDAR