BEGIN:VCALENDAR
VERSION:2.0
BEGIN:VEVENT
URL:https://www.networkinaction.com/index.php/events/viewevent/4763-june-monthly-meeting?groupid=139 
DTSTART:20210610T150000
DTEND:20210610T163000
SUMMARY:June Monthly Meeting
DESCRIPTION:
LOCATION:www.ZoomWithJoryFisher.com
END:VEVENT
END:VCALENDAR