BEGIN:VCALENDAR
VERSION:2.0
BEGIN:VEVENT
URL:https://www.networkinaction.com/index.php/events/viewevent/4762-stop-goal-setting-start-achieving?groupid=66 
DTSTART:20210527T180000
DTEND:20210527T190000
SUMMARY:STOP GOAL SETTING! START ACHIEVING!
DESCRIPTION:<p>“Stop Setting Goals. Start Achieving” is a workshop created by Speaker and Consultant, Teangelo, which was developed around the mission of achievement and learning to achieve consistently.  During this workshop three main ideas will be covered.</p><p>Mindset - do you have a philosophy and vision for your achievement?</p><p>Systems & Strategies - have you developed and written out your strategic plan of action?</p><p>Avatar - do you have a detailed profile of your ideal customer?<br /><br /><br /><p>https://www.eventbrite.com/e/stop-goal-setting-start-achieving-tickets-154400970459</p></p>
LOCATION:ZOOM.US
END:VEVENT
END:VCALENDAR