BEGIN:VCALENDAR
VERSION:2.0
BEGIN:VEVENT
URL:https://www.networkinaction.com/index.php/events/viewevent/4760-our-first-in-person-social?groupid=139 
DTSTART:20210603T153000
DTEND:20210603T170000
SUMMARY:Our First In-Person Social!
DESCRIPTION:
LOCATION:AleCraft Brewery 319 So Main Street Bel Air
END:VEVENT
END:VCALENDAR