BEGIN:VCALENDAR
VERSION:2.0
BEGIN:VEVENT
URL:https://www.networkinaction.com/index.php/events/viewevent/4759-monthly-group-coaching?groupid=139 
DTSTART:20210518T153000
DTEND:20210518T163000
SUMMARY:Monthly Group Coaching
DESCRIPTION:
LOCATION:www.ZoomWithJoryFisher.com
END:VEVENT
END:VCALENDAR