BEGIN:VCALENDAR
VERSION:2.0
BEGIN:VEVENT
URL:https://www.networkinaction.com/index.php/events/viewevent/4745-onward-with-nia?groupid=72 
DTSTART:20210609T150000
DTEND:20210609T163000
SUMMARY:Onward with NIA!
DESCRIPTION:
LOCATION:Scott's Seafood, Jack London Square in Oakland
END:VEVENT
END:VCALENDAR