BEGIN:VCALENDAR
VERSION:2.0
BEGIN:VEVENT
URL:https://www.networkinaction.com/index.php/events/viewevent/4744-june-monthly-meeting?groupid=154 
DTSTART:20210616T150000
DTEND:20210616T163000
SUMMARY:June monthly meeting
DESCRIPTION:
LOCATION:Sienna Restaurant- 1480 Eureka Rd
END:VEVENT
END:VCALENDAR